BEGIN:VCALENDAR
VERSION:2.0
PRODID:-//Česká pediatrická společnost ČLS JEP - ECPv4.9.9//NONSGML v1.0//EN
CALSCALE:GREGORIAN
METHOD:PUBLISH
X-WR-CALNAME:Česká pediatrická společnost ČLS JEP
X-ORIGINAL-URL:https://www.pediatrics.cz
X-WR-CALDESC:Events for Česká pediatrická společnost ČLS JEP
BEGIN:VTIMEZONE
TZID:Europe/Prague
BEGIN:DAYLIGHT
TZOFFSETFROM:+0100
TZOFFSETTO:+0200
TZNAME:CEST
DTSTART:20190331T010000
END:DAYLIGHT
BEGIN:STANDARD
TZOFFSETFROM:+0200
TZOFFSETTO:+0100
TZNAME:CET
DTSTART:20191027T010000
END:STANDARD
END:VTIMEZONE
BEGIN:VEVENT
DTSTART;TZID=Europe/Prague:20190607T080000
DTEND;TZID=Europe/Prague:20190607T170000
DTSTAMP:20260424T213005
CREATED:20190528T114950Z
LAST-MODIFIED:20190528T114950Z
UID:683-1559894400-1559926800@www.pediatrics.cz
SUMMARY:Child's psychiatry for practicians
DESCRIPTION: \n
URL:https://www.pediatrics.cz/en/udalost/childs-psychiatry-for-practicians/
LOCATION:Ostrava\, Ostrava\, Česká republika
CATEGORIES:Domácí akce
END:VEVENT
END:VCALENDAR