BEGIN:VCALENDAR
VERSION:2.0
PRODID:-//Česká pediatrická společnost ČLS JEP - ECPv4.9.9//NONSGML v1.0//EN
CALSCALE:GREGORIAN
METHOD:PUBLISH
X-WR-CALNAME:Česká pediatrická společnost ČLS JEP
X-ORIGINAL-URL:https://www.pediatrics.cz
X-WR-CALDESC:Events for Česká pediatrická společnost ČLS JEP
BEGIN:VTIMEZONE
TZID:Europe/Prague
BEGIN:DAYLIGHT
TZOFFSETFROM:+0100
TZOFFSETTO:+0200
TZNAME:CEST
DTSTART:20180325T010000
END:DAYLIGHT
BEGIN:STANDARD
TZOFFSETFROM:+0200
TZOFFSETTO:+0100
TZNAME:CET
DTSTART:20181028T010000
END:STANDARD
END:VTIMEZONE
BEGIN:VEVENT
DTSTART;VALUE=DATE:20181026
DTEND;VALUE=DATE:20181028
DTSTAMP:20260424T214731
CREATED:20180722T160318Z
LAST-MODIFIED:20180820T170856Z
UID:49-1540512000-1540684799@www.pediatrics.cz
SUMMARY:13. Slovensko-český kongres pediatrickej anestéziológie\, intenzívnej a urgentnej medicíny
DESCRIPTION: \n
URL:https://www.pediatrics.cz/udalost/13-slovensko-cesky-kongres-pediatrickej-anesteziologie-intenzivnej-a-urgentnej-mediciny/
LOCATION:Hotel Družba\, Demänovská dolina\, Jasná pod Chopkom\, Nízke Tatry\, 031 01\, Slovensko
ATTACH;FMTTYPE=application/pdf:https://www.pediatrics.cz/content/uploads/2018/07/1-info13sckongresdetintanesturgmed-2018.pdf
GEO:48.9705618;19.5845362
X-APPLE-STRUCTURED-LOCATION;VALUE=URI;X-ADDRESS=Hotel Družba Demänovská dolina Jasná pod Chopkom Nízke Tatry 031 01 Slovensko;X-APPLE-RADIUS=500;X-TITLE=Demänovská dolina:geo:19.5845362,48.9705618
END:VEVENT
END:VCALENDAR