BEGIN:VCALENDAR
VERSION:2.0
PRODID:-//Česká pediatrická společnost ČLS JEP - ECPv4.9.9//NONSGML v1.0//EN
CALSCALE:GREGORIAN
METHOD:PUBLISH
X-WR-CALNAME:Česká pediatrická společnost ČLS JEP
X-ORIGINAL-URL:https://www.pediatrics.cz
X-WR-CALDESC:Events for Česká pediatrická společnost ČLS JEP
BEGIN:VTIMEZONE
TZID:Europe/Prague
BEGIN:DAYLIGHT
TZOFFSETFROM:+0100
TZOFFSETTO:+0200
TZNAME:CEST
DTSTART:20230326T010000
END:DAYLIGHT
BEGIN:STANDARD
TZOFFSETFROM:+0200
TZOFFSETTO:+0100
TZNAME:CET
DTSTART:20231029T010000
END:STANDARD
END:VTIMEZONE
BEGIN:VEVENT
DTSTART;VALUE=DATE:20231123
DTEND;VALUE=DATE:20231126
DTSTAMP:20260424T214811
CREATED:20230504T104524Z
LAST-MODIFIED:20230504T105544Z
UID:4512-1700697600-1700956799@www.pediatrics.cz
SUMMARY:16. Česko-slovenský kongres dětské anestezie\, intenzivní a urgentní medicíny
DESCRIPTION:Vážené kolegyně\, vážení kolegové\, \nsrdečně vás zveme na 16. Česko-slovenský kongres dětské anestezie\, intenzivní a urgentní medicíny\, který se bude konat 23 – 25. listopadu v Mikulově.  \nTématem kongresu bude opět problematika dětské anestezie a intenzívní medicíny v celé její šíři\, od otázek neonatologických přes dětskou resuscitační péči a špičkové léčebné postupy v oboru až po perioperační léčbu bolesti a problémy postgraduální výuky dětské anestézie a intenzívní medicíny. \nDatum: 23. – 25. listopadu\nMísto konání: Hotel Galant\, Mikulov \nVíce informací naleznete na stránkách ZDE. \n \n
URL:https://www.pediatrics.cz/udalost/16-cesko-slovensky-kongres-detske-anestezie-intenzivni-a-urgentni-mediciny/
LOCATION:Hotel Galant\, Mikulov\, Česká republika
CATEGORIES:Domácí akce
END:VEVENT
END:VCALENDAR