BEGIN:VCALENDAR
VERSION:2.0
PRODID:-//Česká pediatrická společnost ČLS JEP - ECPv4.9.9//NONSGML v1.0//EN
CALSCALE:GREGORIAN
METHOD:PUBLISH
X-WR-CALNAME:Česká pediatrická společnost ČLS JEP
X-ORIGINAL-URL:https://www.pediatrics.cz
X-WR-CALDESC:Events for Česká pediatrická společnost ČLS JEP
BEGIN:VTIMEZONE
TZID:Europe/Prague
BEGIN:DAYLIGHT
TZOFFSETFROM:+0100
TZOFFSETTO:+0200
TZNAME:CEST
DTSTART:20240331T010000
END:DAYLIGHT
BEGIN:STANDARD
TZOFFSETFROM:+0200
TZOFFSETTO:+0100
TZNAME:CET
DTSTART:20241027T010000
END:STANDARD
END:VTIMEZONE
BEGIN:VEVENT
DTSTART;VALUE=DATE:20240419
DTEND;VALUE=DATE:20240422
DTSTAMP:20260424T214655
CREATED:20240123T191001Z
LAST-MODIFIED:20240126T080850Z
UID:5156-1713484800-1713743999@www.pediatrics.cz
SUMMARY:19. Festival kazuistik
DESCRIPTION:Vážené kolegyně\, vážení kolegové\, \nČeská pediatrická společnost ČPS ČLS JEP zaštiťuje a zároveň vás srdečně zve na 19. Festival kazuistik\, který se bude konat od 19. – 21. dubna 2024 v Luhačovicích. \nDatum: 19. – 21. 4. 2024\nMísto konání: Kulturní a kongresové centrum Elektra\, Luhačovice \nVíce informací naleznete zde. \n
URL:https://www.pediatrics.cz/udalost/19-festival-kazuistik/
LOCATION:Luhačovice\, Česká republika
CATEGORIES:Domácí akce
END:VEVENT
END:VCALENDAR