BEGIN:VCALENDAR
VERSION:2.0
PRODID:-//Česká pediatrická společnost ČLS JEP - ECPv4.9.9//NONSGML v1.0//EN
CALSCALE:GREGORIAN
METHOD:PUBLISH
X-WR-CALNAME:Česká pediatrická společnost ČLS JEP
X-ORIGINAL-URL:https://www.pediatrics.cz
X-WR-CALDESC:Events for Česká pediatrická společnost ČLS JEP
BEGIN:VTIMEZONE
TZID:Europe/Prague
BEGIN:DAYLIGHT
TZOFFSETFROM:+0100
TZOFFSETTO:+0200
TZNAME:CEST
DTSTART:20210328T010000
END:DAYLIGHT
BEGIN:STANDARD
TZOFFSETFROM:+0200
TZOFFSETTO:+0100
TZNAME:CET
DTSTART:20211031T010000
END:STANDARD
END:VTIMEZONE
BEGIN:VEVENT
DTSTART;TZID=Europe/Prague:20210302T160000
DTEND;TZID=Europe/Prague:20210302T180000
DTSTAMP:20260424T193600
CREATED:20210217T182424Z
LAST-MODIFIED:20210217T182445Z
UID:2094-1614700800-1614708000@www.pediatrics.cz
SUMMARY:Covid-19 a poskytování dětské paliativní péče - WEBINÁŘ
DESCRIPTION:Rádi bychom Vás pozvali na online webinář na téma: Covid-19 a poskytování dětské paliativní péče\, který se uskuteční 2. března 2021 v čase 16:00 – 18:00. \nWebinář je zdarma a není třeba se na něj registrovat. \nVíce informací a odkaz pro připojení k webináři naleznete ZDE. \n
URL:https://www.pediatrics.cz/udalost/covid-19-a-poskytovani-detske-paliativni-pece-webinar/
CATEGORIES:Domácí akce
END:VEVENT
END:VCALENDAR