BEGIN:VCALENDAR
VERSION:2.0
PRODID:-//Česká pediatrická společnost ČLS JEP - ECPv4.9.9//NONSGML v1.0//EN
CALSCALE:GREGORIAN
METHOD:PUBLISH
X-WR-CALNAME:Česká pediatrická společnost ČLS JEP
X-ORIGINAL-URL:https://www.pediatrics.cz
X-WR-CALDESC:Events for Česká pediatrická společnost ČLS JEP
BEGIN:VTIMEZONE
TZID:Europe/Prague
BEGIN:DAYLIGHT
TZOFFSETFROM:+0100
TZOFFSETTO:+0200
TZNAME:CEST
DTSTART:20220327T010000
END:DAYLIGHT
BEGIN:STANDARD
TZOFFSETFROM:+0200
TZOFFSETTO:+0100
TZNAME:CET
DTSTART:20221030T010000
END:STANDARD
END:VTIMEZONE
BEGIN:VEVENT
DTSTART;VALUE=DATE:20220325
DTEND;VALUE=DATE:20220327
DTSTAMP:20260424T214126
CREATED:20220315T120617Z
LAST-MODIFIED:20220315T121315Z
UID:3032-1648166400-1648339199@www.pediatrics.cz
SUMMARY:Dětská diabetologie 2022
DESCRIPTION:Tradiční konference Dětská diabetologie se bude konat 25. – 26. 3. 2022 v Hotelu Duo v Praze.\nRegistrace a odborný program najdete na https://www.detskydiabetes.amca.cz/\nLetošními tématy budou:\n* Technologie\,\n* 100 let inzulinu\,\n* Diabetes a nemoc\,\n* Obezita v dětství a adolescenci. \nAkce se koná s podporou České diabetologické a České pediatrické společnosti ČLS JEP. \n \n
URL:https://www.pediatrics.cz/udalost/detska-diabetologie-2022/
LOCATION:Praha\, Hotel DUO\, Česká republika
CATEGORIES:Domácí akce
END:VEVENT
END:VCALENDAR