BEGIN:VCALENDAR
VERSION:2.0
PRODID:-//Česká pediatrická společnost ČLS JEP - ECPv4.9.9//NONSGML v1.0//EN
CALSCALE:GREGORIAN
METHOD:PUBLISH
X-WR-CALNAME:Česká pediatrická společnost ČLS JEP
X-ORIGINAL-URL:https://www.pediatrics.cz
X-WR-CALDESC:Events for Česká pediatrická společnost ČLS JEP
BEGIN:VTIMEZONE
TZID:Europe/Prague
BEGIN:DAYLIGHT
TZOFFSETFROM:+0100
TZOFFSETTO:+0200
TZNAME:CEST
DTSTART:20260329T010000
END:DAYLIGHT
BEGIN:STANDARD
TZOFFSETFROM:+0200
TZOFFSETTO:+0100
TZNAME:CET
DTSTART:20261025T010000
END:STANDARD
END:VTIMEZONE
BEGIN:VEVENT
DTSTART;VALUE=DATE:20260519
DTEND;VALUE=DATE:20260520
DTSTAMP:20260424T202815
CREATED:20260326T100431Z
LAST-MODIFIED:20260326T100431Z
UID:7047-1779148800-1779235199@www.pediatrics.cz
SUMMARY:Dětská psychiatrie a psychologie v nelehké době
DESCRIPTION:Rádi bychom Vás informovali o novém vzdělávacím semináři Purkyňova nadačního fondu na téma „Dětská psychiatrie a psychologie v nelehké době“. Akce je určena pro všechny členy ČLS JEP\, přičemž registrační poplatek je zdarma. Přednášet budou doc. MUDr. Iva Dudová\, Ph.D.\, přednostka Dětské psychiatrické kliniky 2. LF UK a FN Motol a Homolka\, a Mgr. Markéta Mohaplová\, primářka Oddělení klinické psychologie FN Motol a Homolka. Přednáškové odpoledne bude moderovat prof. MUDr. Karel Cvachovec\, CSc.\, MBA. \nDatum konání: 19. května 2026 od 15:30 hodin\nMísto konání: Velký sál v Lékařském domě\, Sokolská 31 a online \nPřihlášení na akci je možné pouze prostřednictvím on-line registračního formuláře na webových stránkách Purkyňova nadačního fondu. \nOficiální pozvánku si můžete prohlédnout zde. \n  \n \n\n  \n\n
URL:https://www.pediatrics.cz/udalost/detska-psychiatrie-a-psychologie-v-nelehke-dobe/
CATEGORIES:Domácí akce
END:VEVENT
END:VCALENDAR