BEGIN:VCALENDAR
VERSION:2.0
PRODID:-//Česká pediatrická společnost ČLS JEP - ECPv4.9.9//NONSGML v1.0//EN
CALSCALE:GREGORIAN
METHOD:PUBLISH
X-WR-CALNAME:Česká pediatrická společnost ČLS JEP
X-ORIGINAL-URL:https://www.pediatrics.cz
X-WR-CALDESC:Events for Česká pediatrická společnost ČLS JEP
BEGIN:VTIMEZONE
TZID:Europe/Prague
BEGIN:DAYLIGHT
TZOFFSETFROM:+0100
TZOFFSETTO:+0200
TZNAME:CEST
DTSTART:20250330T010000
END:DAYLIGHT
BEGIN:STANDARD
TZOFFSETFROM:+0200
TZOFFSETTO:+0100
TZNAME:CET
DTSTART:20251026T010000
END:STANDARD
END:VTIMEZONE
BEGIN:VEVENT
DTSTART;VALUE=DATE:20250320
DTEND;VALUE=DATE:20250321
DTSTAMP:20260424T214119
CREATED:20250122T113912Z
LAST-MODIFIED:20250122T113946Z
UID:5863-1742428800-1742515199@www.pediatrics.cz
SUMMARY:Dětský nefrologický seminář
DESCRIPTION:Srdečně Vás zveme na dětský nefrologický seminář „Nefrologické výzvy v praxi praktického lékaře“\, který se bude konat ve čtvrtek 20.března 2025 v Ostravě ke Světovému dni ledvin. \nÚčast na semináři je zdarma. \nDatum konání: 20.3.2025 \nMísto konání: Ostrava \nVíce informací k akci vč. programu a registrace naleznete ZDE. \n \n
URL:https://www.pediatrics.cz/udalost/detsky-nefrologicky-seminar/
END:VEVENT
END:VCALENDAR