BEGIN:VCALENDAR
VERSION:2.0
PRODID:-//Česká pediatrická společnost ČLS JEP - ECPv4.9.9//NONSGML v1.0//EN
CALSCALE:GREGORIAN
METHOD:PUBLISH
X-WR-CALNAME:Česká pediatrická společnost ČLS JEP
X-ORIGINAL-URL:https://www.pediatrics.cz
X-WR-CALDESC:Events for Česká pediatrická společnost ČLS JEP
BEGIN:VTIMEZONE
TZID:Europe/Prague
BEGIN:DAYLIGHT
TZOFFSETFROM:+0100
TZOFFSETTO:+0200
TZNAME:CEST
DTSTART:20220327T010000
END:DAYLIGHT
BEGIN:STANDARD
TZOFFSETFROM:+0200
TZOFFSETTO:+0100
TZNAME:CET
DTSTART:20221030T010000
END:STANDARD
END:VTIMEZONE
BEGIN:VEVENT
DTSTART;VALUE=DATE:20220622
DTEND;VALUE=DATE:20220626
DTSTAMP:20260424T214655
CREATED:20220510T104631Z
LAST-MODIFIED:20220517T154124Z
UID:3362-1655856000-1656201599@www.pediatrics.cz
SUMMARY:ESPGHAN Congress 2022
DESCRIPTION:Vážené kolegyně\, vážení kolegové\,\n\njménem ESPGHAN si vás dovolujeme pozvat na 54. výroční zasedání ESPGHAN\, které se bude konat v dánské Kodani\nod středy 22. června do soboty 25. června 2022.\n\nVýroční zasedání ESPGHAN každoročně přitahuje klíčové názorové špičky v oblasti dětské gastroenterologie\, hepatologie \na výživy z Evropy i celého světa\, což z kongresu činí největší konferenci svého druhu na světě. V tomto roce nabízíme hybridní \nsetkání s možností potkat se jak osobně\, tak online.\n\nVíce informací o kongresu\, programu a registraci naleznete na  https://www.espghancongress.org/ \n\n\n \n\n\n
URL:https://www.pediatrics.cz/udalost/espghan-congress-2022/
LOCATION:Kodaň\, Dánsko
CATEGORIES:Zahraniční akce
END:VEVENT
END:VCALENDAR