BEGIN:VCALENDAR
VERSION:2.0
PRODID:-//Česká pediatrická společnost ČLS JEP - ECPv4.9.9//NONSGML v1.0//EN
CALSCALE:GREGORIAN
METHOD:PUBLISH
X-WR-CALNAME:Česká pediatrická společnost ČLS JEP
X-ORIGINAL-URL:https://www.pediatrics.cz
X-WR-CALDESC:Events for Česká pediatrická společnost ČLS JEP
BEGIN:VTIMEZONE
TZID:Europe/Prague
BEGIN:DAYLIGHT
TZOFFSETFROM:+0100
TZOFFSETTO:+0200
TZNAME:CEST
DTSTART:20230326T010000
END:DAYLIGHT
BEGIN:STANDARD
TZOFFSETFROM:+0200
TZOFFSETTO:+0100
TZNAME:CET
DTSTART:20231029T010000
END:STANDARD
END:VTIMEZONE
BEGIN:VEVENT
DTSTART;VALUE=DATE:20230414
DTEND;VALUE=DATE:20230416
DTSTAMP:20260424T215035
CREATED:20230125T210747Z
LAST-MODIFIED:20230216T132558Z
UID:4098-1681430400-1681603199@www.pediatrics.cz
SUMMARY:Kurz Klinické neurofyziologické vyšetření kojenců do 1 roku věku
DESCRIPTION:Srdečně vás zveme na kurz s názvem Klinické neurofyziologické vyšetření kojenců do 1 roku věku\, který se bude konat 14. – 15. dubna 2023 ve městě Studénce u Ostravy. \n\n\n\nVzdělávací kurz cílí na problematiku psychomotorického vývoje v prvním roce života dítěte. V teoretické části si kurzisté osvojí systematické postupy vyšetření neurofyziologických funkcí na základě poznatků z vývojové kineziologie. V praktické části kurzu se kurzisté naopak naučí praktické provedení neurofyziologického vyšetření\, jeho interpretaci a vyhodnocení. Absolvent kurzu bude schopen rozpoznat a včas řešit patologický psychomotorický vývoj novorozenců a kojenců v 1. roce života.  \nDatum: 14. – 15. dubna 2023\nMísto: Léčebná rehabilitace Neuron\, Studénka \nKurz je primárně určen pro lékaře v oboru pediatrie.\n \nVíce informací a přesný program dvoudenního kurzu naleznete ZDE. \n \n\n\n\n
URL:https://www.pediatrics.cz/udalost/klinicke-neurofyziologicke-vysetreni-kojencu-do-1-roku-veku/
LOCATION:Léčebná rehabilitace Neuron\, s.r.o.\, Butovická 365\, Studénka\, Česká republika
CATEGORIES:Domácí akce
END:VEVENT
END:VCALENDAR