BEGIN:VCALENDAR
VERSION:2.0
PRODID:-//Česká pediatrická společnost ČLS JEP - ECPv4.9.9//NONSGML v1.0//EN
CALSCALE:GREGORIAN
METHOD:PUBLISH
X-WR-CALNAME:Česká pediatrická společnost ČLS JEP
X-ORIGINAL-URL:https://www.pediatrics.cz
X-WR-CALDESC:Events for Česká pediatrická společnost ČLS JEP
BEGIN:VTIMEZONE
TZID:Europe/Prague
BEGIN:DAYLIGHT
TZOFFSETFROM:+0100
TZOFFSETTO:+0200
TZNAME:CEST
DTSTART:20230326T010000
END:DAYLIGHT
BEGIN:STANDARD
TZOFFSETFROM:+0200
TZOFFSETTO:+0100
TZNAME:CET
DTSTART:20231029T010000
END:STANDARD
END:VTIMEZONE
BEGIN:VEVENT
DTSTART;VALUE=DATE:20230913
DTEND;VALUE=DATE:20230914
DTSTAMP:20260424T214126
CREATED:20230907T103422Z
LAST-MODIFIED:20230907T103453Z
UID:4787-1694563200-1694649599@www.pediatrics.cz
SUMMARY:Kurz Resuscitace novorozence
DESCRIPTION:Srdečně Vás zveme na kurz Resuscitace novorozence organizovaný LF Univerzity Palackého v Olomouci. Kurz se bude konat 13. září 2023 v Olomouci. \nCo se v kurzu naučíte? \n– Etiologie a identifikace potřeby resuscitace novorozence. Hypoxie plodu. Patofyziologie resuscitace v perinatálním období. Hypoxicko-ischemická encefalopatie. Resuscitace donošeného novorozence. Postresuscitační péče\, indikace k transportu a léčbě hypotermií. Podpora (support transition) nedonošeného novorozence po porodu. Křeče a jejich léčba. \nVíce informací k akci a registraci naleznete ZDE. \n \n
URL:https://www.pediatrics.cz/udalost/kurz-resuscitace-novorozence/
LOCATION:Olomouoc\, Česká republika
CATEGORIES:Domácí akce
END:VEVENT
END:VCALENDAR