BEGIN:VCALENDAR
VERSION:2.0
PRODID:-//Česká pediatrická společnost ČLS JEP - ECPv4.9.9//NONSGML v1.0//EN
CALSCALE:GREGORIAN
METHOD:PUBLISH
X-WR-CALNAME:Česká pediatrická společnost ČLS JEP
X-ORIGINAL-URL:https://www.pediatrics.cz
X-WR-CALDESC:Events for Česká pediatrická společnost ČLS JEP
BEGIN:VTIMEZONE
TZID:Europe/Prague
BEGIN:DAYLIGHT
TZOFFSETFROM:+0100
TZOFFSETTO:+0200
TZNAME:CEST
DTSTART:20260329T010000
END:DAYLIGHT
BEGIN:STANDARD
TZOFFSETFROM:+0200
TZOFFSETTO:+0100
TZNAME:CET
DTSTART:20261025T010000
END:STANDARD
END:VTIMEZONE
BEGIN:VEVENT
DTSTART;VALUE=DATE:20260421
DTEND;VALUE=DATE:20260422
DTSTAMP:20260424T214114
CREATED:20260417T090955Z
LAST-MODIFIED:20260417T091043Z
UID:7326-1776729600-1776815999@www.pediatrics.cz
SUMMARY:Project ECHO: Zavádění dětské a perinatální paliativní péče
DESCRIPTION:Srdečně Vás zveme na odborný webinář projektu ECHO\, který se zaměřuje na problematiku dětské a perinatální paliativní péče. Téma webináře se bude týkat zavádění dětské a perinatální paliativní péče. \nOdbornou přednášku povede MUDr. Tereza Petrů (FN Plzeň) a kazuistiku Mgr. Filip Schramm (FN Motol). \nDatum konání: 21. dubna 2026\nMísto konání: online \nWebinář nabídne praktický pohled na implementaci paliativní péče u dětských pacientů a sdílení zkušeností z klinické praxe. \nOdborným garantem projektu se stala Sekce dětské paliativní medicíny České pediatrické společnosti ČLS JEP. Vzdělávací akce je akreditována ČLK. \n \n
URL:https://www.pediatrics.cz/udalost/project-echo-zavadeni-detske-a-perinatalni-paliativni-pece/
END:VEVENT
END:VCALENDAR