BEGIN:VCALENDAR
VERSION:2.0
PRODID:-//Česká pediatrická společnost ČLS JEP - ECPv4.9.9//NONSGML v1.0//EN
CALSCALE:GREGORIAN
METHOD:PUBLISH
X-WR-CALNAME:Česká pediatrická společnost ČLS JEP
X-ORIGINAL-URL:https://www.pediatrics.cz
X-WR-CALDESC:Events for Česká pediatrická společnost ČLS JEP
BEGIN:VTIMEZONE
TZID:Europe/Prague
BEGIN:DAYLIGHT
TZOFFSETFROM:+0100
TZOFFSETTO:+0200
TZNAME:CEST
DTSTART:20250330T010000
END:DAYLIGHT
BEGIN:STANDARD
TZOFFSETFROM:+0200
TZOFFSETTO:+0100
TZNAME:CET
DTSTART:20251026T010000
END:STANDARD
END:VTIMEZONE
BEGIN:VEVENT
DTSTART;VALUE=DATE:20250314
DTEND;VALUE=DATE:20250316
DTSTAMP:20260424T214119
CREATED:20250116T195921Z
LAST-MODIFIED:20250116T195921Z
UID:5858-1741910400-1742083199@www.pediatrics.cz
SUMMARY:Rozštěpy 2025
DESCRIPTION:Vážení\, \nrádi bychom Vás pozvali na multioborovou konferenci Rozštěpy 2025\, která je určena pro lékaře i ostatní související profese. \nDatum konání: 14. – 15.3.2025 \nMísto konání: Quality Hotel Brno Exhibition Centre \nPodrobný program spolu s možností registrace naleznete zde. \n \n
URL:https://www.pediatrics.cz/udalost/rozstepy-2025/
CATEGORIES:Domácí akce
END:VEVENT
END:VCALENDAR