BEGIN:VCALENDAR
VERSION:2.0
PRODID:-//Česká pediatrická společnost ČLS JEP - ECPv4.9.9//NONSGML v1.0//EN
CALSCALE:GREGORIAN
METHOD:PUBLISH
X-WR-CALNAME:Česká pediatrická společnost ČLS JEP
X-ORIGINAL-URL:https://www.pediatrics.cz
X-WR-CALDESC:Events for Česká pediatrická společnost ČLS JEP
BEGIN:VTIMEZONE
TZID:Europe/Prague
BEGIN:DAYLIGHT
TZOFFSETFROM:+0100
TZOFFSETTO:+0200
TZNAME:CEST
DTSTART:20260329T010000
END:DAYLIGHT
BEGIN:STANDARD
TZOFFSETFROM:+0200
TZOFFSETTO:+0100
TZNAME:CET
DTSTART:20261025T010000
END:STANDARD
END:VTIMEZONE
BEGIN:VEVENT
DTSTART;VALUE=DATE:20260525
DTEND;VALUE=DATE:20260531
DTSTAMP:20260424T202707
CREATED:20260407T115846Z
LAST-MODIFIED:20260407T115846Z
UID:7184-1779667200-1780185599@www.pediatrics.cz
SUMMARY:Vzácní spolu
DESCRIPTION:Česká asociace pro vzácná onemocnění zve na edukační pobyty určené rodinám s dětmi (2–12 let) se vzácným onemocněním. Pobyt nabízí odborné workshopy i prostor pro sdílení zkušeností a podporu v náročných životních situacích. \nDatum konání: 25.–30. 5. 2026\, 28. 9.–3. 10. 2026\nMísto konání: Penzion U Zámku\, Pluhův Žďár (u Jindřichova Hradce) \nNa programu budou workshopy s odborníky (psycholog\, fyzioterapeut\, genetik)\, témata jako škola\, speciální potřeby\, rodinné vztahy či sourozenci a aktivity zaměřené na radost z pohybu. \nKapacita je max. 10 rodin. \nVíce informací naleznete zde. \n \n
URL:https://www.pediatrics.cz/udalost/vzacni-spolu/
CATEGORIES:Domácí akce
END:VEVENT
END:VCALENDAR