BEGIN:VCALENDAR
VERSION:2.0
PRODID:-//Česká pediatrická společnost ČLS JEP - ECPv4.9.9//NONSGML v1.0//EN
CALSCALE:GREGORIAN
METHOD:PUBLISH
X-WR-CALNAME:Česká pediatrická společnost ČLS JEP
X-ORIGINAL-URL:https://www.pediatrics.cz
X-WR-CALDESC:Events for Česká pediatrická společnost ČLS JEP
BEGIN:VTIMEZONE
TZID:Europe/Prague
BEGIN:DAYLIGHT
TZOFFSETFROM:+0100
TZOFFSETTO:+0200
TZNAME:CEST
DTSTART:20240331T010000
END:DAYLIGHT
BEGIN:STANDARD
TZOFFSETFROM:+0200
TZOFFSETTO:+0100
TZNAME:CET
DTSTART:20241027T010000
END:STANDARD
END:VTIMEZONE
BEGIN:VEVENT
DTSTART;VALUE=DATE:20240611
DTEND;VALUE=DATE:20240612
DTSTAMP:20260424T214655
CREATED:20240528T123149Z
LAST-MODIFIED:20240528T123149Z
UID:5452-1718064000-1718150399@www.pediatrics.cz
SUMMARY:Webinář na téma "Dětské infekce"
DESCRIPTION:Vážení a milí\, \nrádi bychom Vás informovali o možnosti registrace na online webinář na téma dětských infekcí\, který se uskuteční 11. června 2024. \nČas konání: 17:00 – 19:25 hodin \nVíce informací i ohledně registrace naleznete zde. \n \n
URL:https://www.pediatrics.cz/udalost/webinar-na-tema-detske-infekce/
END:VEVENT
END:VCALENDAR