BEGIN:VCALENDAR
VERSION:2.0
PRODID:-//Česká pediatrická společnost ČLS JEP - ECPv4.9.9//NONSGML v1.0//EN
CALSCALE:GREGORIAN
METHOD:PUBLISH
X-WR-CALNAME:Česká pediatrická společnost ČLS JEP
X-ORIGINAL-URL:https://www.pediatrics.cz
X-WR-CALDESC:Events for Česká pediatrická společnost ČLS JEP
BEGIN:VTIMEZONE
TZID:Europe/Prague
BEGIN:DAYLIGHT
TZOFFSETFROM:+0100
TZOFFSETTO:+0200
TZNAME:CEST
DTSTART:20260329T010000
END:DAYLIGHT
BEGIN:STANDARD
TZOFFSETFROM:+0200
TZOFFSETTO:+0100
TZNAME:CET
DTSTART:20261025T010000
END:STANDARD
END:VTIMEZONE
BEGIN:VEVENT
DTSTART;VALUE=DATE:20260418
DTEND;VALUE=DATE:20260419
DTSTAMP:20260424T214028
CREATED:20260401T082531Z
LAST-MODIFIED:20260401T082531Z
UID:7172-1776470400-1776556799@www.pediatrics.cz
SUMMARY:Workshop „Pomáháme dětem a rodinám se specifickými potřebami“
DESCRIPTION:Rádi bychom mezi dotčené rodiny rozšířili informaci o možnosti zapojení do nově vzniklého projektu financovaného z EU ve Světě autismu v Chýni (Praha-západ) – vhodný pro děti z různými neurovývojovými obtížemi (např. PAS\, ADHD\, vývojová dysfázie\, specifické poruchy učení\, poruchy motoriky\, porucha smyslové integrace a jiné). Nabídka spolupráce je blíže popsána v přiloženém letáku. \nZároveň bychom chtěli informovat rodiče dětí se specifickými potřebami o možnosti zúčastnit se workshopu „Pomáháme dětem a rodinám se specifickými potřebami“\, který se uskuteční dne 18. 4. 2026. \nVíce informací se dozvíte zde. Registrace je možná prostřednictvím tohoto formuláře. \nVstupné na workshop je dobrovolné. \n  \n \n
URL:https://www.pediatrics.cz/udalost/workshop-pomahame-detem-a-rodinam-se-specifickymi-potrebami/
CATEGORIES:Domácí akce
END:VEVENT
END:VCALENDAR