BEGIN:VCALENDAR
VERSION:2.0
PRODID:-//Česká pediatrická společnost ČLS JEP - ECPv4.9.9//NONSGML v1.0//EN
CALSCALE:GREGORIAN
METHOD:PUBLISH
X-WR-CALNAME:Česká pediatrická společnost ČLS JEP
X-ORIGINAL-URL:https://www.pediatrics.cz
X-WR-CALDESC:Events for Česká pediatrická společnost ČLS JEP
BEGIN:VTIMEZONE
TZID:Europe/Prague
BEGIN:DAYLIGHT
TZOFFSETFROM:+0100
TZOFFSETTO:+0200
TZNAME:CEST
DTSTART:20210328T010000
END:DAYLIGHT
BEGIN:STANDARD
TZOFFSETFROM:+0200
TZOFFSETTO:+0100
TZNAME:CET
DTSTART:20211031T010000
END:STANDARD
END:VTIMEZONE
BEGIN:VEVENT
DTSTART;VALUE=DATE:20210923
DTEND;VALUE=DATE:20210926
DTSTAMP:20260424T214731
CREATED:20210330T134458Z
LAST-MODIFIED:20210330T171500Z
UID:2203-1632355200-1632614399@www.pediatrics.cz
SUMMARY:XV. Pediatrický kongres s mezinárodní účastí
DESCRIPTION:Dovolte nám Vás pozvat na XV. Pediatrický kongres s mezinárodní účastí\, který se bude konat 23. – 25. září 2021 v Kongresovém centru ALDIS v Hradci Králové. \nBližší informace naleznete na webových stránkách akce. \n
URL:https://www.pediatrics.cz/udalost/xv-pediatricky-kongres-s-mezinarodni-ucasti-2/
LOCATION:Kongresové centrum ALDIS\, Eliščino nábřeží 375\, Hradec Králové\, Královehradecký\, 50002\, Česká republika
CATEGORIES:Domácí akce
ATTACH;FMTTYPE=application/pdf:https://www.pediatrics.cz/content/uploads/2021/03/01_baner_cpk_2021_web.pdf
END:VEVENT
END:VCALENDAR