BEGIN:VCALENDAR
VERSION:2.0
PRODID:-//Česká pediatrická společnost ČLS JEP - ECPv4.9.9//NONSGML v1.0//EN
CALSCALE:GREGORIAN
METHOD:PUBLISH
X-WR-CALNAME:Česká pediatrická společnost ČLS JEP
X-ORIGINAL-URL:https://www.pediatrics.cz
X-WR-CALDESC:Events for Česká pediatrická společnost ČLS JEP
BEGIN:VTIMEZONE
TZID:Europe/Prague
BEGIN:DAYLIGHT
TZOFFSETFROM:+0100
TZOFFSETTO:+0200
TZNAME:CEST
DTSTART:20230326T010000
END:DAYLIGHT
BEGIN:STANDARD
TZOFFSETFROM:+0200
TZOFFSETTO:+0100
TZNAME:CET
DTSTART:20231029T010000
END:STANDARD
END:VTIMEZONE
BEGIN:VEVENT
DTSTART;VALUE=DATE:20231107
DTEND;VALUE=DATE:20231109
DTSTAMP:20260424T214126
CREATED:20230601T153921Z
LAST-MODIFIED:20230601T155309Z
UID:4608-1699315200-1699487999@www.pediatrics.cz
SUMMARY:XVIII. Brněnské hematologické dny
DESCRIPTION:Vážené kolegyně\, vážení kolegové\, \ndovolujeme si vás pozvat na 18. ročník Brněnských hematologických dnů\, které se budou konat 7. a 8. listopadu 2023 v Brně. \nDatum: 7. – 8. 11. 2023\nMísto konání: BW Hotel International\, Brno \nPozvánku s programem naleznete ZDE a návratku ZDE. \n \n
URL:https://www.pediatrics.cz/udalost/xviii-brnenske-hematologicke-dny/
LOCATION:BW Hotel International\, Brno\, Česká republika
CATEGORIES:Domácí akce
END:VEVENT
END:VCALENDAR