BEGIN:VCALENDAR
VERSION:2.0
PRODID:-//Česká pediatrická společnost ČLS JEP - ECPv4.9.9//NONSGML v1.0//EN
CALSCALE:GREGORIAN
METHOD:PUBLISH
X-WR-CALNAME:Česká pediatrická společnost ČLS JEP
X-ORIGINAL-URL:https://www.pediatrics.cz
X-WR-CALDESC:Events for Česká pediatrická společnost ČLS JEP
BEGIN:VTIMEZONE
TZID:Europe/Prague
BEGIN:DAYLIGHT
TZOFFSETFROM:+0100
TZOFFSETTO:+0200
TZNAME:CEST
DTSTART:20240331T010000
END:DAYLIGHT
BEGIN:STANDARD
TZOFFSETFROM:+0200
TZOFFSETTO:+0100
TZNAME:CET
DTSTART:20241027T010000
END:STANDARD
END:VTIMEZONE
BEGIN:VEVENT
DTSTART;VALUE=DATE:20240919
DTEND;VALUE=DATE:20240922
DTSTAMP:20260424T214654
CREATED:20240123T181327Z
LAST-MODIFIED:20240123T181327Z
UID:5140-1726704000-1726963199@www.pediatrics.cz
SUMMARY:XVIII. Pediatrický kongres
DESCRIPTION:Vážené kolegyně\, vážení kolegové\, \nsrdečně Vás zveme na XVIII. Pediatrický kongres\, který se bude konat 19. – 21. září 2024 v kongresové centrum Aldis\, v Hradci Králové. \nVíce informací budou postupně přidány na oficiální web kongresu. \n \n
URL:https://www.pediatrics.cz/udalost/xviii-pediatricky-kongres/
LOCATION:Kongresové centrum ALDIS\, Eliščino nábřeží 375\, Hradec Králové\, Královehradecký\, 50002\, Česká republika
CATEGORIES:Domácí akce
END:VEVENT
END:VCALENDAR