BEGIN:VCALENDAR
VERSION:2.0
PRODID:-//Česká pediatrická společnost ČLS JEP - ECPv4.9.9//NONSGML v1.0//EN
CALSCALE:GREGORIAN
METHOD:PUBLISH
X-WR-CALNAME:Česká pediatrická společnost ČLS JEP
X-ORIGINAL-URL:https://www.pediatrics.cz
X-WR-CALDESC:Events for Česká pediatrická společnost ČLS JEP
BEGIN:VTIMEZONE
TZID:Europe/Prague
BEGIN:DAYLIGHT
TZOFFSETFROM:+0100
TZOFFSETTO:+0200
TZNAME:CEST
DTSTART:20220327T010000
END:DAYLIGHT
BEGIN:STANDARD
TZOFFSETFROM:+0200
TZOFFSETTO:+0100
TZNAME:CET
DTSTART:20221030T010000
END:STANDARD
END:VTIMEZONE
BEGIN:VEVENT
DTSTART;VALUE=DATE:20221125
DTEND;VALUE=DATE:20221127
DTSTAMP:20260424T214732
CREATED:20221010T115321Z
LAST-MODIFIED:20221010T174539Z
UID:3772-1669334400-1669507199@www.pediatrics.cz
SUMMARY:XXII. Hradecké pediatrické dny
DESCRIPTION:Vážené kolegyně\, vážení kolegové\, \nsrdečně Vás zveme na 22. ročník Hradeckých pediatrických dnů\, které se budou konat 25. – 26. listopadu 2022 v Hradci Králové. \nV letošním roce se akci spojila s 11. mezioborovým sympoziem Komplexní vyšetření ucha a sluchu v ambulantní i klinické praxi pediatra a ORL lékaře. Program HPD bude zveřejněn během října na webových stránkách akce. \nDatum: od pátku 25. do soboty 26. listopadu 2022\nMísto: Kongresové centrum ALDIS\, Hradec Králové\nCena: cena pro lékaře od 2000\,- Kč \nVíce o akci nebo pro registraci navštivte webové stránky ZDE. \n! Při registraci do pondělí 10. října ušetříte 200 Kč z ceny registračního poplatku!  \n  \n
URL:https://www.pediatrics.cz/udalost/xxii-hradecke-pediatricke-dny/
LOCATION:Hradec Králové\, CZ\, Česká republika
CATEGORIES:Domácí akce
END:VEVENT
END:VCALENDAR