BEGIN:VCALENDAR
VERSION:2.0
PRODID:-//Česká pediatrická společnost ČLS JEP - ECPv4.9.9//NONSGML v1.0//EN
CALSCALE:GREGORIAN
METHOD:PUBLISH
X-WR-CALNAME:Česká pediatrická společnost ČLS JEP
X-ORIGINAL-URL:https://www.pediatrics.cz
X-WR-CALDESC:Events for Česká pediatrická společnost ČLS JEP
BEGIN:VTIMEZONE
TZID:Europe/Prague
BEGIN:DAYLIGHT
TZOFFSETFROM:+0100
TZOFFSETTO:+0200
TZNAME:CEST
DTSTART:20230326T010000
END:DAYLIGHT
BEGIN:STANDARD
TZOFFSETFROM:+0200
TZOFFSETTO:+0100
TZNAME:CET
DTSTART:20231029T010000
END:STANDARD
END:VTIMEZONE
BEGIN:VEVENT
DTSTART;VALUE=DATE:20230512
DTEND;VALUE=DATE:20230514
DTSTAMP:20260424T214654
CREATED:20230224T154143Z
LAST-MODIFIED:20230224T160531Z
UID:4317-1683849600-1684022399@www.pediatrics.cz
SUMMARY:XXII. Setkání lékařů ČR a SR
DESCRIPTION:Vážené kolegyně\, vážení kolegové\, \nsrdečně vás zveme na 22. ročník Setkání lékařů ČR a SR v Litomyšli\, který se bude konat 12. a 13. května 2023. Letošní setkání se bude věnovat alergii\, astmatu\, imunitě u dětí i dospělých\, diagnostice\, léčbě a mezioborové spolupráci. \nDatum: 12. – 13. května 2023\nMísto konání: Smetanův dům a zámek v Litomyšli. \nPři registraci do 31. 3. 2023 se můžete akce zúčastnit za nižší cenu. Více o cenách a registraci nalezete zde. \nKulturní program: Setkání s Jaromírem Hanzlíkem. Společenský program a raut na zámku. K tanci a poslechu hraje skupina The Villains. \nBližší informace\, program\, registrace\, ubytování najdete na stránkách: www.setkanilekaru.cz a www.astmalitomysl.cz \n \n  \n
URL:https://www.pediatrics.cz/udalost/xxii-setkani-lekaru-cr-a-sr/
LOCATION:Litomyšl\, Litomyšl\, Česká republika
CATEGORIES:Domácí akce
END:VEVENT
END:VCALENDAR